BEGIN:VCALENDAR
VERSION:2.0
PRODID:-//GGI-Initiatve - ECPv6.15.16//NONSGML v1.0//EN
CALSCALE:GREGORIAN
METHOD:PUBLISH
X-ORIGINAL-URL:https://ggi-initiative.at/wp
X-WR-CALDESC:Veranstaltungen für GGI-Initiatve
REFRESH-INTERVAL;VALUE=DURATION:PT1H
X-Robots-Tag:noindex
X-PUBLISHED-TTL:PT1H
BEGIN:VTIMEZONE
TZID:Europe/Vienna
BEGIN:DAYLIGHT
TZOFFSETFROM:+0100
TZOFFSETTO:+0200
TZNAME:CEST
DTSTART:20230326T010000
END:DAYLIGHT
BEGIN:STANDARD
TZOFFSETFROM:+0200
TZOFFSETTO:+0100
TZNAME:CET
DTSTART:20231029T010000
END:STANDARD
BEGIN:DAYLIGHT
TZOFFSETFROM:+0100
TZOFFSETTO:+0200
TZNAME:CEST
DTSTART:20240331T010000
END:DAYLIGHT
BEGIN:STANDARD
TZOFFSETFROM:+0200
TZOFFSETTO:+0100
TZNAME:CET
DTSTART:20241027T010000
END:STANDARD
BEGIN:DAYLIGHT
TZOFFSETFROM:+0100
TZOFFSETTO:+0200
TZNAME:CEST
DTSTART:20250330T010000
END:DAYLIGHT
BEGIN:STANDARD
TZOFFSETFROM:+0200
TZOFFSETTO:+0100
TZNAME:CET
DTSTART:20251026T010000
END:STANDARD
END:VTIMEZONE
BEGIN:VEVENT
DTSTART;TZID=Europe/Vienna:20240913T190000
DTEND;TZID=Europe/Vienna:20240913T210000
DTSTAMP:20260420T031122
CREATED:20240829T215610Z
LAST-MODIFIED:20240907T083808Z
UID:37927-1726254000-1726261200@ggi-initiative.at
SUMMARY:Podiumsdiskussion
DESCRIPTION:Podiumsdiskussion in Graz am Freitag 13. September 2024 19h \nWarum  Grüne die Grünen nicht mehr wählen \nMit Martin Sprenger\, Gabriele Faller\, Franz Sölkner und Stefan Haring \nOrt: Novaparkhotel Graz\, \nFreie Spende \nVeranstalter GGI
URL:https://ggi-initiative.at/wp/veranstaltung/podiumsdiskussion/
LOCATION:Novapark Hotel\, 8051 Graz Fischeraustraße 22\, Fischeraustraße 22\, Novapark Hotel\, 8051 Graz
ATTACH;FMTTYPE=image/jpeg:https://ggi-initiative.at/wp/wp-content/uploads/2024/08/13.9.-Graz.jpg
END:VEVENT
END:VCALENDAR