BEGIN:VCALENDAR
VERSION:2.0
PRODID:-//GGI-Initiatve - ECPv6.15.16//NONSGML v1.0//EN
CALSCALE:GREGORIAN
METHOD:PUBLISH
X-ORIGINAL-URL:https://ggi-initiative.at/wp
X-WR-CALDESC:Veranstaltungen für GGI-Initiatve
REFRESH-INTERVAL;VALUE=DURATION:PT1H
X-Robots-Tag:noindex
X-PUBLISHED-TTL:PT1H
BEGIN:VTIMEZONE
TZID:Europe/Vienna
BEGIN:DAYLIGHT
TZOFFSETFROM:+0100
TZOFFSETTO:+0200
TZNAME:CEST
DTSTART:20230326T010000
END:DAYLIGHT
BEGIN:STANDARD
TZOFFSETFROM:+0200
TZOFFSETTO:+0100
TZNAME:CET
DTSTART:20231029T010000
END:STANDARD
BEGIN:DAYLIGHT
TZOFFSETFROM:+0100
TZOFFSETTO:+0200
TZNAME:CEST
DTSTART:20240331T010000
END:DAYLIGHT
BEGIN:STANDARD
TZOFFSETFROM:+0200
TZOFFSETTO:+0100
TZNAME:CET
DTSTART:20241027T010000
END:STANDARD
BEGIN:DAYLIGHT
TZOFFSETFROM:+0100
TZOFFSETTO:+0200
TZNAME:CEST
DTSTART:20250330T010000
END:DAYLIGHT
BEGIN:STANDARD
TZOFFSETFROM:+0200
TZOFFSETTO:+0100
TZNAME:CET
DTSTART:20251026T010000
END:STANDARD
END:VTIMEZONE
BEGIN:VEVENT
DTSTART;TZID=Europe/Vienna:20241017T193000
DTEND;TZID=Europe/Vienna:20241017T210000
DTSTAMP:20260420T012342
CREATED:20241008T170812Z
LAST-MODIFIED:20241008T170812Z
UID:37966-1729193400-1729198800@ggi-initiative.at
SUMMARY:MUMM IN DEN KNOCHEN
DESCRIPTION:Donnerstag 17. 10. 2024 19:30 \nMag. Tilmann Schleicher zu Gast im Talk bei Nora Summer \nidealismprevails \n  \nNIXONFOLLOWSTHEMONEY.COM \n 
URL:https://ggi-initiative.at/wp/veranstaltung/mumm-in-den-knochen-4/
LOCATION:Seelenoase Simmering\, Simmeringer Hauptstraße 56/6 (bei Geko läuten)\, 1100 Wien
ATTACH;FMTTYPE=image/jpeg:https://ggi-initiative.at/wp/wp-content/uploads/2024/10/687126F1-C261-4419-8A9A-9A1CA87F9A84.jpg
END:VEVENT
END:VCALENDAR