BEGIN:VCALENDAR
VERSION:2.0
PRODID:-//GGI-Initiatve - ECPv6.15.16//NONSGML v1.0//EN
CALSCALE:GREGORIAN
METHOD:PUBLISH
X-WR-CALNAME:GGI-Initiatve
X-ORIGINAL-URL:https://ggi-initiative.at/wp
X-WR-CALDESC:Veranstaltungen für GGI-Initiatve
REFRESH-INTERVAL;VALUE=DURATION:PT1H
X-Robots-Tag:noindex
X-PUBLISHED-TTL:PT1H
BEGIN:VTIMEZONE
TZID:Europe/Vienna
BEGIN:DAYLIGHT
TZOFFSETFROM:+0100
TZOFFSETTO:+0200
TZNAME:CEST
DTSTART:20230326T010000
END:DAYLIGHT
BEGIN:STANDARD
TZOFFSETFROM:+0200
TZOFFSETTO:+0100
TZNAME:CET
DTSTART:20231029T010000
END:STANDARD
BEGIN:DAYLIGHT
TZOFFSETFROM:+0100
TZOFFSETTO:+0200
TZNAME:CEST
DTSTART:20240331T010000
END:DAYLIGHT
BEGIN:STANDARD
TZOFFSETFROM:+0200
TZOFFSETTO:+0100
TZNAME:CET
DTSTART:20241027T010000
END:STANDARD
BEGIN:DAYLIGHT
TZOFFSETFROM:+0100
TZOFFSETTO:+0200
TZNAME:CEST
DTSTART:20250330T010000
END:DAYLIGHT
BEGIN:STANDARD
TZOFFSETFROM:+0200
TZOFFSETTO:+0100
TZNAME:CET
DTSTART:20251026T010000
END:STANDARD
END:VTIMEZONE
BEGIN:VEVENT
DTSTART;TZID=Europe/Vienna:20241031T190000
DTEND;TZID=Europe/Vienna:20241031T210000
DTSTAMP:20260419T234955
CREATED:20241021T072618Z
LAST-MODIFIED:20241025T093647Z
UID:37971-1730401200-1730408400@ggi-initiative.at
SUMMARY:Symposion
DESCRIPTION:  \nSymposion  Donnerstag 31. Oktober 2024 19h \nGeselliges Zusammenkommen mit Wein- und Saftverkostung \nErich Pello wird uns einen Einblick geben in die geschichtliche Bedeutung von geselligen Zusammenkünften seit der Antike. Wein- und Fruchtsäfte werden verkostet\, Raum zum Kennenlernen\, Plaudern und Philosophieren. \nOrt: GGI/LMP-Lokal ehem. Galerie Nuu in Wien 9\, Wilhelm Exner Gasse 15 \nEintritt freie Spende! \nUm Anmeldung wird gebeten unter: post@ggi-initiative.at \nVeranstalter: GGI-Initiative \n 
URL:https://ggi-initiative.at/wp/veranstaltung/symposion/
LOCATION:Galerie/Werkstatt Nuu\, Wilhelm Exner Gasse 15\, Wien\, 1090
ATTACH;FMTTYPE=image/jpeg:https://ggi-initiative.at/wp/wp-content/uploads/2024/10/Sujet-Symposion-neu.jpg
END:VEVENT
END:VCALENDAR