BEGIN:VCALENDAR
VERSION:2.0
PRODID:-//GGI-Initiatve - ECPv6.15.16//NONSGML v1.0//EN
CALSCALE:GREGORIAN
METHOD:PUBLISH
X-WR-CALNAME:GGI-Initiatve
X-ORIGINAL-URL:https://ggi-initiative.at/wp
X-WR-CALDESC:Veranstaltungen für GGI-Initiatve
REFRESH-INTERVAL;VALUE=DURATION:PT1H
X-Robots-Tag:noindex
X-PUBLISHED-TTL:PT1H
BEGIN:VTIMEZONE
TZID:Europe/Vienna
BEGIN:DAYLIGHT
TZOFFSETFROM:+0100
TZOFFSETTO:+0200
TZNAME:CEST
DTSTART:20240331T010000
END:DAYLIGHT
BEGIN:STANDARD
TZOFFSETFROM:+0200
TZOFFSETTO:+0100
TZNAME:CET
DTSTART:20241027T010000
END:STANDARD
BEGIN:DAYLIGHT
TZOFFSETFROM:+0100
TZOFFSETTO:+0200
TZNAME:CEST
DTSTART:20250330T010000
END:DAYLIGHT
BEGIN:STANDARD
TZOFFSETFROM:+0200
TZOFFSETTO:+0100
TZNAME:CET
DTSTART:20251026T010000
END:STANDARD
BEGIN:DAYLIGHT
TZOFFSETFROM:+0100
TZOFFSETTO:+0200
TZNAME:CEST
DTSTART:20260329T010000
END:DAYLIGHT
BEGIN:STANDARD
TZOFFSETFROM:+0200
TZOFFSETTO:+0100
TZNAME:CET
DTSTART:20261025T010000
END:STANDARD
END:VTIMEZONE
BEGIN:VEVENT
DTSTART;TZID=Europe/Vienna:20250301T193000
DTEND;TZID=Europe/Vienna:20250301T210000
DTSTAMP:20260420T131052
CREATED:20250128T174041Z
LAST-MODIFIED:20250128T175742Z
UID:38059-1740857400-1740862800@ggi-initiative.at
SUMMARY:Lebenslust und Mut - Stuntfrau Nora Summer / OÖ
DESCRIPTION:Samstag 1. März 19:30 \nLebenslust und Mut – ein launiger Abend mit Stuntfrau Nora Summer \nOrt: Gewölbesaal im Gut Oberhofen/OÖ \nStichpunkt – Kulturraum  \nlink zur Veranstaltung
URL:https://ggi-initiative.at/wp/veranstaltung/lebenslust-und-mut-stuntfrau-nora-summer/
LOCATION:Gut Oberhofen\, 4894 Oberhofen
ATTACH;FMTTYPE=image/jpeg:https://ggi-initiative.at/wp/wp-content/uploads/2025/01/Nora-Mut-1.3.25.jpg
END:VEVENT
END:VCALENDAR