BEGIN:VCALENDAR
VERSION:2.0
PRODID:-//GGI-Initiatve - ECPv6.15.16//NONSGML v1.0//EN
CALSCALE:GREGORIAN
METHOD:PUBLISH
X-ORIGINAL-URL:https://ggi-initiative.at/wp
X-WR-CALDESC:Veranstaltungen für GGI-Initiatve
REFRESH-INTERVAL;VALUE=DURATION:PT1H
X-Robots-Tag:noindex
X-PUBLISHED-TTL:PT1H
BEGIN:VTIMEZONE
TZID:Europe/Vienna
BEGIN:DAYLIGHT
TZOFFSETFROM:+0100
TZOFFSETTO:+0200
TZNAME:CEST
DTSTART:20240331T010000
END:DAYLIGHT
BEGIN:STANDARD
TZOFFSETFROM:+0200
TZOFFSETTO:+0100
TZNAME:CET
DTSTART:20241027T010000
END:STANDARD
BEGIN:DAYLIGHT
TZOFFSETFROM:+0100
TZOFFSETTO:+0200
TZNAME:CEST
DTSTART:20250330T010000
END:DAYLIGHT
BEGIN:STANDARD
TZOFFSETFROM:+0200
TZOFFSETTO:+0100
TZNAME:CET
DTSTART:20251026T010000
END:STANDARD
BEGIN:DAYLIGHT
TZOFFSETFROM:+0100
TZOFFSETTO:+0200
TZNAME:CEST
DTSTART:20260329T010000
END:DAYLIGHT
BEGIN:STANDARD
TZOFFSETFROM:+0200
TZOFFSETTO:+0100
TZNAME:CET
DTSTART:20261025T010000
END:STANDARD
END:VTIMEZONE
BEGIN:VEVENT
DTSTART;TZID=Europe/Vienna:20250320T183000
DTEND;TZID=Europe/Vienna:20250320T200000
DTSTAMP:20260420T170104
CREATED:20250318T134927Z
LAST-MODIFIED:20250318T134927Z
UID:38099-1742495400-1742500800@ggi-initiative.at
SUMMARY:Podiumsdiskussion
DESCRIPTION:Donnerstag 20.3. 18:30 \nu.a. mit Madeleine Petrovic\, Peter Kolba \nKriege – Klimawandel – Demokratieumbau \nlink zur Veranstaltung \nVeranstalter: Selbstbestimmtes Österreich \n  \n  \n 
URL:https://ggi-initiative.at/wp/veranstaltung/podiumsdiskussion-2/
LOCATION:Event-Space Blumenfabrik\, 1070 Wien\, Neustiftgassse 36
END:VEVENT
END:VCALENDAR