BEGIN:VCALENDAR
VERSION:2.0
PRODID:-//GGI-Initiatve - ECPv6.15.16//NONSGML v1.0//EN
CALSCALE:GREGORIAN
METHOD:PUBLISH
X-WR-CALNAME:GGI-Initiatve
X-ORIGINAL-URL:https://ggi-initiative.at/wp
X-WR-CALDESC:Veranstaltungen für GGI-Initiatve
REFRESH-INTERVAL;VALUE=DURATION:PT1H
X-Robots-Tag:noindex
X-PUBLISHED-TTL:PT1H
BEGIN:VTIMEZONE
TZID:Europe/Vienna
BEGIN:DAYLIGHT
TZOFFSETFROM:+0100
TZOFFSETTO:+0200
TZNAME:CEST
DTSTART:20240331T010000
END:DAYLIGHT
BEGIN:STANDARD
TZOFFSETFROM:+0200
TZOFFSETTO:+0100
TZNAME:CET
DTSTART:20241027T010000
END:STANDARD
BEGIN:DAYLIGHT
TZOFFSETFROM:+0100
TZOFFSETTO:+0200
TZNAME:CEST
DTSTART:20250330T010000
END:DAYLIGHT
BEGIN:STANDARD
TZOFFSETFROM:+0200
TZOFFSETTO:+0100
TZNAME:CET
DTSTART:20251026T010000
END:STANDARD
BEGIN:DAYLIGHT
TZOFFSETFROM:+0100
TZOFFSETTO:+0200
TZNAME:CEST
DTSTART:20260329T010000
END:DAYLIGHT
BEGIN:STANDARD
TZOFFSETFROM:+0200
TZOFFSETTO:+0100
TZNAME:CET
DTSTART:20261025T010000
END:STANDARD
END:VTIMEZONE
BEGIN:VEVENT
DTSTART;TZID=Europe/Vienna:20250321T190000
DTEND;TZID=Europe/Vienna:20250321T210000
DTSTAMP:20260420T184433
CREATED:20250312T154057Z
LAST-MODIFIED:20250321T103517Z
UID:38086-1742583600-1742590800@ggi-initiative.at
SUMMARY:WHO - Info und Diskussion
DESCRIPTION:Freitag 21.3. 19:00 Wien \nWir informieren und diskutieren zu:\n– den durch die WHO 2024 vorgenommen IGV-Änderungen\n– der noch knappen Frist\, innerhalb der Regierung(en) Widerspruch erheben können\n– den Auswirkungen auf Gesundheitsbelange jedes Einzelnen\n– den Auswirkungen auf den Rechtsstaat\, falls die geänderten IGV tatsächlich umgesetzt werden\n– den Aktivitäten und Forderungen in Ö\, CH\, D und den USA\, um die geänderten IGV abzuwenden \nWir freuen uns neben Rechtsanwalt Dr. iur. Christian Presoly von den Anwälten für Aufklärung besonders über\n* die Teilnahme von Dr. med. Lukas Trimmel (Wissenschaftliche Initiative Gesundheit für Österreich) sowie über\n* Berichte aus der SCHWEIZ durch RA Andrea Staubli\, Aktionsbündnis Freie Schweiz und den ehemaligen Staatsanwalt Jürg Vollenweider\n* sowie aus DEUTSCHLAND durch Dr. jur. Beate Sibylle Pfeil und über\n* einen Video-Bericht aus den USA; \nVeranstalter: GGI und LMP
URL:https://ggi-initiative.at/wp/veranstaltung/who-info-und-diskussion/
LOCATION:Galerie/Werkstatt Nuu\, Wilhelm Exner Gasse 15\, Wien\, 1090
ATTACH;FMTTYPE=image/jpeg:https://ggi-initiative.at/wp/wp-content/uploads/2025/03/Sujet-WHO-NEUNEU.jpg
END:VEVENT
END:VCALENDAR