BEGIN:VCALENDAR
VERSION:2.0
PRODID:-//GGI-Initiatve - ECPv6.15.16//NONSGML v1.0//EN
CALSCALE:GREGORIAN
METHOD:PUBLISH
X-WR-CALNAME:GGI-Initiatve
X-ORIGINAL-URL:https://ggi-initiative.at/wp
X-WR-CALDESC:Veranstaltungen für GGI-Initiatve
REFRESH-INTERVAL;VALUE=DURATION:PT1H
X-Robots-Tag:noindex
X-PUBLISHED-TTL:PT1H
BEGIN:VTIMEZONE
TZID:Europe/Vienna
BEGIN:DAYLIGHT
TZOFFSETFROM:+0100
TZOFFSETTO:+0200
TZNAME:CEST
DTSTART:20230326T010000
END:DAYLIGHT
BEGIN:STANDARD
TZOFFSETFROM:+0200
TZOFFSETTO:+0100
TZNAME:CET
DTSTART:20231029T010000
END:STANDARD
BEGIN:DAYLIGHT
TZOFFSETFROM:+0100
TZOFFSETTO:+0200
TZNAME:CEST
DTSTART:20240331T010000
END:DAYLIGHT
BEGIN:STANDARD
TZOFFSETFROM:+0200
TZOFFSETTO:+0100
TZNAME:CET
DTSTART:20241027T010000
END:STANDARD
BEGIN:DAYLIGHT
TZOFFSETFROM:+0100
TZOFFSETTO:+0200
TZNAME:CEST
DTSTART:20250330T010000
END:DAYLIGHT
BEGIN:STANDARD
TZOFFSETFROM:+0200
TZOFFSETTO:+0100
TZNAME:CET
DTSTART:20251026T010000
END:STANDARD
END:VTIMEZONE
BEGIN:VEVENT
DTSTART;TZID=Europe/Vienna:20240309T183000
DTEND;TZID=Europe/Vienna:20240309T183000
DTSTAMP:20260420T105741
CREATED:20240208T091514Z
LAST-MODIFIED:20240212T105627Z
UID:36221-1710009000-1710009000@ggi-initiative.at
SUMMARY:Wer bestimmt\, was für uns das Beste ist?
DESCRIPTION:Tickets auf:  www.menschheitsfamilie.at \n  \n 
URL:https://ggi-initiative.at/wp/veranstaltung/wer-bestimmt-was-fuer-uns-das-beste-ist/
LOCATION:Kurhaus Hall/Tirol\, Thurnfeldgasse 1\, 6060 Hall\, Tirol
ATTACH;FMTTYPE=image/jpeg:https://ggi-initiative.at/wp/wp-content/uploads/2024/02/Wer-bestimmt__social-media_1.jpg
END:VEVENT
BEGIN:VEVENT
DTSTART;TZID=Europe/Vienna:20240314T193000
DTEND;TZID=Europe/Vienna:20240314T210000
DTSTAMP:20260420T105741
CREATED:20240302T064513Z
LAST-MODIFIED:20240302T064513Z
UID:36508-1710444600-1710450000@ggi-initiative.at
SUMMARY:Mumm in den Knochen\, Leuchten im Herzen
DESCRIPTION:Donnerstag 14. März 19:30 \nMadeleine Petrovic zu Gast beim Talk mit Nora Summer \nEinlass ab 19:00 \nUm Voranmeldung wird gebeten per mail an: redaktion@idealismprevails.at \nEine Veranstaltung von Idealism Prevails
URL:https://ggi-initiative.at/wp/veranstaltung/mumm-in-den-knochen-leuchten-im-herzen-2/
LOCATION:Seelenoase Simmering\, Simmeringer Hauptstraße 56/6 (bei Geko läuten)\, 1100 Wien
ATTACH;FMTTYPE=image/png:https://ggi-initiative.at/wp/wp-content/uploads/2024/03/Mumm-Madeleine.png
END:VEVENT
BEGIN:VEVENT
DTSTART;VALUE=DATE:20240316
DTEND;VALUE=DATE:20240318
DTSTAMP:20260420T105741
CREATED:20240216T124725Z
LAST-MODIFIED:20240216T124725Z
UID:36326-1710547200-1710719999@ggi-initiative.at
SUMMARY:Salzburger Gesundheitstage
DESCRIPTION:16. und 17. März 2024\n1. SALZBURGER GESUNDHEITSTAGE\n\n\n\n\nTAUCHEN SIE EIN IN EINE WISSENSWELT ÜBER LEBEN UND GESUNDHEIT!\n\n\n\n\nANMELDUNG ÖFFENTLICHES PUBLIKUM\n\n\n\n\nWählen Sie aus 25 Öffentlichkeitsvorträgen und Workshops und gestalten sich Ihr individuelles Kongressprogramm.\nEinzeln buchbare Module ganz nach Ihren Bedürfnissen. Bereits ab 25\,00 €. \nOrt: \n\n\nZENTRUM DER VISIONEN\n\n\n\n\nUrstein Nord 24\n5412 Puch-Urstein\nSalzburg\, Österreich\nhttps://www.zentrum-visionen.at/ \n\n\n\n\nhttps://salzburger-gesundheitstage.at \nORGANISATION DURCH ZUKUNFT MEDIZIN E.V in Kooperation\nmit der Wissenschaftlichen Initiative Gesundheit für Österreich \n 
URL:https://ggi-initiative.at/wp/veranstaltung/salzburger-gesundheitstage/
LOCATION:Zentrum der Visionen\, 5412 Puch-Urstein\, Urstein Nord 24\, Salzburg
ATTACH;FMTTYPE=image/png:https://ggi-initiative.at/wp/wp-content/uploads/2024/02/Bildschirmfoto-2024-02-16-um-13.45.36.png
END:VEVENT
END:VCALENDAR