BEGIN:VCALENDAR
VERSION:2.0
PRODID:-//GGI-Initiatve - ECPv6.15.16//NONSGML v1.0//EN
CALSCALE:GREGORIAN
METHOD:PUBLISH
X-WR-CALNAME:GGI-Initiatve
X-ORIGINAL-URL:https://ggi-initiative.at/wp
X-WR-CALDESC:Veranstaltungen für GGI-Initiatve
REFRESH-INTERVAL;VALUE=DURATION:PT1H
X-Robots-Tag:noindex
X-PUBLISHED-TTL:PT1H
BEGIN:VTIMEZONE
TZID:Europe/Vienna
BEGIN:DAYLIGHT
TZOFFSETFROM:+0100
TZOFFSETTO:+0200
TZNAME:CEST
DTSTART:20230326T010000
END:DAYLIGHT
BEGIN:STANDARD
TZOFFSETFROM:+0200
TZOFFSETTO:+0100
TZNAME:CET
DTSTART:20231029T010000
END:STANDARD
BEGIN:DAYLIGHT
TZOFFSETFROM:+0100
TZOFFSETTO:+0200
TZNAME:CEST
DTSTART:20240331T010000
END:DAYLIGHT
BEGIN:STANDARD
TZOFFSETFROM:+0200
TZOFFSETTO:+0100
TZNAME:CET
DTSTART:20241027T010000
END:STANDARD
BEGIN:DAYLIGHT
TZOFFSETFROM:+0100
TZOFFSETTO:+0200
TZNAME:CEST
DTSTART:20250330T010000
END:DAYLIGHT
BEGIN:STANDARD
TZOFFSETFROM:+0200
TZOFFSETTO:+0100
TZNAME:CET
DTSTART:20251026T010000
END:STANDARD
END:VTIMEZONE
BEGIN:VEVENT
DTSTART;TZID=Europe/Vienna:20240501T120000
DTEND;TZID=Europe/Vienna:20240501T170000
DTSTAMP:20260425T224620
CREATED:20240422T131729Z
LAST-MODIFIED:20240422T131729Z
UID:36904-1714564800-1714582800@ggi-initiative.at
SUMMARY:Friedensmarsch 1. Mai 2024
DESCRIPTION:Friedensmarsch am 1. Mai \nSprecher: Nora Summer\, Andreas Sönnichsen und weitere \nhttps://www.menschheitsfamilie.at/?S=Friedensmarsch_2024-05-01
URL:https://ggi-initiative.at/wp/veranstaltung/friedensmarsch-1-mai-2024/
LOCATION:Salzburg\, Residenzplatz
ATTACH;FMTTYPE=application/pdf:https://ggi-initiative.at/wp/wp-content/uploads/2024/04/Friedensmarsch-1.-Mai-Salzburg-pdf.pdf
END:VEVENT
BEGIN:VEVENT
DTSTART;TZID=Europe/Vienna:20240507T170000
DTEND;TZID=Europe/Vienna:20240507T210000
DTSTAMP:20260425T224620
CREATED:20240422T203104Z
LAST-MODIFIED:20240422T203104Z
UID:36909-1715101200-1715115600@ggi-initiative.at
SUMMARY:RKI-FILES in Wien
DESCRIPTION:RKI-Files in Wien!\n\nDas große Event über die brisanten Protokolle!\n\nWir analysieren die aktuellen Erkenntnisse inhaltlich sowie ihre Bedeutung hinsichtlich politischer Konsequenzen und gesellschaftlicher Aufarbeitung!\n\nEine Veranstaltung von Idealism Prevails\, NIXONFOLLOWSTHEMONEY & GGI unterstützt durch EMUS\n\nTickets: http://corona-aufarbeitung.at
URL:https://ggi-initiative.at/wp/veranstaltung/rki-files-in-wien/
LOCATION:Lorelysaal\, 1140 Wien\, Penzingerstraße 72
ATTACH;FMTTYPE=image/png:https://ggi-initiative.at/wp/wp-content/uploads/2024/04/RKI-Files-7.5.png
END:VEVENT
BEGIN:VEVENT
DTSTART;TZID=Europe/Vienna:20240508T170000
DTEND;TZID=Europe/Vienna:20240508T190000
DTSTAMP:20260425T224620
CREATED:20240508T122027Z
LAST-MODIFIED:20240508T122027Z
UID:37405-1715187600-1715194800@ggi-initiative.at
SUMMARY:Mahnwache für Julian Assange
DESCRIPTION:Mittwoch 17 bis 19h in Wien bei der Oper am Herbert von Karajan Platz 1 \nWöchentliche Mahnwache der candles4assange_vienna \nhttps://www.facebook.com/hashtag/candles4assange \nhttps://www.candles4assange.com \n 
URL:https://ggi-initiative.at/wp/veranstaltung/mahnwache-fuer-julian-assange/
LOCATION:1010 Wien\, Herbert-von-Karajan-Platz neben der Wiener Oper
END:VEVENT
BEGIN:VEVENT
DTSTART;TZID=Europe/Vienna:20240508T190000
DTEND;TZID=Europe/Vienna:20240508T190000
DTSTAMP:20260425T224620
CREATED:20240330T093925Z
LAST-MODIFIED:20240330T095038Z
UID:36723-1715194800-1715194800@ggi-initiative.at
SUMMARY:MIT MUT ZUR SELBSTERMÄCHTIGUNG
DESCRIPTION:Ein inspirierender Abend mit Stuntwoman und GGI-Powerfrau NORA SUMMER \nTickets & Detailinfos auf Menschheitsfamilie.at \n  \nBeginn: 19:00 Uhr\, Einlass: 18:00 Uhr \nKulturzentrum Hallwang \n5300 Hallwang bei Salzburg\, Dorfstraße 18 \n 
URL:https://ggi-initiative.at/wp/veranstaltung/36723/
LOCATION:Kulturzentrum Hallwang\, 5300 Hallwang bei Salzburg\, Dorfstraße 18
ATTACH;FMTTYPE=image/png:https://ggi-initiative.at/wp/wp-content/uploads/2024/03/Veranst.-Nora-Tirol-Mut-zur-.-Mensch.png
END:VEVENT
BEGIN:VEVENT
DTSTART;TZID=Europe/Vienna:20240509T190000
DTEND;TZID=Europe/Vienna:20240509T213000
DTSTAMP:20260425T224620
CREATED:20240428T223311Z
LAST-MODIFIED:20240428T223311Z
UID:36979-1715281200-1715290200@ggi-initiative.at
SUMMARY:MUMM IN DEN KNOCHEN - LEUCHTEN IM HERZEN
DESCRIPTION:
URL:https://ggi-initiative.at/wp/veranstaltung/mumm-in-den-knochen-leuchten-im-herzen-5/
LOCATION:Seelenoase Simmering\, Simmeringer Hauptstraße 56/6 (bei Geko läuten)\, 1100 Wien
ATTACH;FMTTYPE=image/png:https://ggi-initiative.at/wp/wp-content/uploads/2024/04/Mumm-Markus-Haintz-9.5.png
END:VEVENT
BEGIN:VEVENT
DTSTART;TZID=Europe/Vienna:20240515T170000
DTEND;TZID=Europe/Vienna:20240515T190000
DTSTAMP:20260425T224620
CREATED:20240508T122426Z
LAST-MODIFIED:20240508T122426Z
UID:37410-1715792400-1715799600@ggi-initiative.at
SUMMARY:Mahnwache für Julian Assange
DESCRIPTION:wöchentliche Mahnwache der candles4assange in Wien vor der Oper am Herbert von Karajan Platz \nhttps://www.candles4assange.com
URL:https://ggi-initiative.at/wp/veranstaltung/mahnwache-fuer-julian-assange-2/
LOCATION:1010 Wien\, Herbert-von-Karajan-Platz neben der Wiener Oper
END:VEVENT
BEGIN:VEVENT
DTSTART;TZID=Europe/Vienna:20240517T173000
DTEND;TZID=Europe/Vienna:20240520T110000
DTSTAMP:20260425T224620
CREATED:20240508T120940Z
LAST-MODIFIED:20240508T161720Z
UID:37402-1715967000-1716202800@ggi-initiative.at
SUMMARY:GEA Pfingstsymposium
DESCRIPTION:Friedenssymposium \n17. bis 20. Mai 2024 \ngea-waldviertler.at \n 
URL:https://ggi-initiative.at/wp/veranstaltung/gea-pfingstsymposium/
LOCATION:GEA\,  Niederschremser Straße 4b\, 3943 Schrems
ATTACH;FMTTYPE=application/pdf:https://ggi-initiative.at/wp/wp-content/uploads/2024/05/GEA-Friedenssymposium-Mai-2024.pdf
END:VEVENT
BEGIN:VEVENT
DTSTART;TZID=Europe/Vienna:20240522T170000
DTEND;TZID=Europe/Vienna:20240522T190000
DTSTAMP:20260425T224620
CREATED:20240508T123025Z
LAST-MODIFIED:20240508T123025Z
UID:37417-1716397200-1716404400@ggi-initiative.at
SUMMARY:Mahnwache für Julian Assange
DESCRIPTION:Wöchentliche Mahnwache der candles4assange in Wien vor der Oper am Herbert von Karajan Platz \nMittwoch 22. Mai 17 bis 19h \nhttps://www.candles4assange.com
URL:https://ggi-initiative.at/wp/veranstaltung/mahnwache-fuer-julian-assange-5/
LOCATION:1010 Wien\, Herbert-von-Karajan-Platz neben der Wiener Oper
END:VEVENT
BEGIN:VEVENT
DTSTART;TZID=Europe/Vienna:20240524T190000
DTEND;TZID=Europe/Vienna:20240524T190000
DTSTAMP:20260425T224620
CREATED:20240514T135928Z
LAST-MODIFIED:20240514T135928Z
UID:37532-1716577200-1716577200@ggi-initiative.at
SUMMARY:MUMM IN DEN KNOCHEN  LEUCHTEN IM HERZEN
DESCRIPTION:Donnerstag 25. Mai 2024 \nKräuterpädagogin Hubert Kunkel zu Gast bei GGI-Powerfrau Nora Summer in der Seelenoase Simmering. \nhttps://www.idealismprevails.at/mumm-in-den-knochen-leuchten-im-herzen-huberta-kunkel/
URL:https://ggi-initiative.at/wp/veranstaltung/mumm-in-den-knochen-leuchten-im-herzen-6/
LOCATION:Seelenoase Simmering\, Simmeringer Hauptstraße 56/6 (bei Geko läuten)\, 1100 Wien
ATTACH;FMTTYPE=image/jpeg:https://ggi-initiative.at/wp/wp-content/uploads/2024/05/Mumm-Huberta-24.4.jpg
END:VEVENT
BEGIN:VEVENT
DTSTART;TZID=Europe/Vienna:20240529T170000
DTEND;TZID=Europe/Vienna:20240529T190000
DTSTAMP:20260425T224620
CREATED:20240508T122817Z
LAST-MODIFIED:20240508T122817Z
UID:37415-1717002000-1717009200@ggi-initiative.at
SUMMARY:Mahnwache für Julian Assange
DESCRIPTION:Wöchentliche Mahnwache der candles4assange in Wien vor der Oper am Herbert von Karajan Platz \nMittwoch 29. Mai 17 bis 19h \nhttps://www.candles4assange.com
URL:https://ggi-initiative.at/wp/veranstaltung/mahnwache-fuer-julian-assange-4/
LOCATION:1010 Wien\, Herbert-von-Karajan-Platz neben der Wiener Oper
END:VEVENT
BEGIN:VEVENT
DTSTART;TZID=Europe/Vienna:20240530T193000
DTEND;TZID=Europe/Vienna:20240530T213000
DTSTAMP:20260425T224620
CREATED:20240527T213745Z
LAST-MODIFIED:20240527T213745Z
UID:37586-1717097400-1717104600@ggi-initiative.at
SUMMARY:Präsentation des Projekts "Wirmiteinander"
DESCRIPTION:Donnerstag 30. Mai 2024 ab 19:30 \nIdealism Prevails lädt zur Präsentation des Projekts “Wirmiteinander” und zum Interview mit dem Gründer Ernst Prossinger \nin der Seelenoase Simmering \n  \n 
URL:https://ggi-initiative.at/wp/veranstaltung/praesentation-des-projekts-wirmiteinander/
LOCATION:Seelenoase Simmering\, Simmeringer Hauptstraße 56/6 (bei Geko läuten)\, 1100 Wien
END:VEVENT
END:VCALENDAR