BEGIN:VCALENDAR
VERSION:2.0
PRODID:-//GGI-Initiatve - ECPv6.15.16//NONSGML v1.0//EN
CALSCALE:GREGORIAN
METHOD:PUBLISH
X-ORIGINAL-URL:https://ggi-initiative.at/wp
X-WR-CALDESC:Veranstaltungen für GGI-Initiatve
REFRESH-INTERVAL;VALUE=DURATION:PT1H
X-Robots-Tag:noindex
X-PUBLISHED-TTL:PT1H
BEGIN:VTIMEZONE
TZID:Europe/Vienna
BEGIN:DAYLIGHT
TZOFFSETFROM:+0100
TZOFFSETTO:+0200
TZNAME:CEST
DTSTART:20230326T010000
END:DAYLIGHT
BEGIN:STANDARD
TZOFFSETFROM:+0200
TZOFFSETTO:+0100
TZNAME:CET
DTSTART:20231029T010000
END:STANDARD
BEGIN:DAYLIGHT
TZOFFSETFROM:+0100
TZOFFSETTO:+0200
TZNAME:CEST
DTSTART:20240331T010000
END:DAYLIGHT
BEGIN:STANDARD
TZOFFSETFROM:+0200
TZOFFSETTO:+0100
TZNAME:CET
DTSTART:20241027T010000
END:STANDARD
BEGIN:DAYLIGHT
TZOFFSETFROM:+0100
TZOFFSETTO:+0200
TZNAME:CEST
DTSTART:20250330T010000
END:DAYLIGHT
BEGIN:STANDARD
TZOFFSETFROM:+0200
TZOFFSETTO:+0100
TZNAME:CET
DTSTART:20251026T010000
END:STANDARD
END:VTIMEZONE
BEGIN:VEVENT
DTSTART;TZID=Europe/Vienna:20241202T193000
DTEND;TZID=Europe/Vienna:20241202T213000
DTSTAMP:20260419T233613
CREATED:20241119T103833Z
LAST-MODIFIED:20241119T103833Z
UID:38009-1733167800-1733175000@ggi-initiative.at
SUMMARY:Offene Wissenschaftsdiskussion
DESCRIPTION:Montag 2. Dezember 19:30 in Wien \nOrt: ehemalige Galerie Nuu\, 1090 Wien\, Wilhelm Exner Gasse 15 \nOffene Wissenschaftsdiskussion \nVeranstalter: Liste Madeleine Petrovic
URL:https://ggi-initiative.at/wp/veranstaltung/offene-wissenschaftsdiskussion/
LOCATION:Galerie/Werkstatt Nuu\, Wilhelm Exner Gasse 15\, Wien\, 1090
ATTACH;FMTTYPE=image/jpeg:https://ggi-initiative.at/wp/wp-content/uploads/2024/11/Wissenschaftsduskussion-1-1536x1086-1.jpg
END:VEVENT
BEGIN:VEVENT
DTSTART;TZID=Europe/Vienna:20241208T150000
DTEND;TZID=Europe/Vienna:20241208T170000
DTSTAMP:20260419T233613
CREATED:20241128T143630Z
LAST-MODIFIED:20241202T221230Z
UID:38013-1733670000-1733677200@ggi-initiative.at
SUMMARY:Ein Adventnachmittag für die Grundrechte
DESCRIPTION:Sonntag 8.12. 15h \nEIN ADVENTNACHMITTAG FÜR DIE GRUNDRECHTE \nBei Tee und Adventkuchen liest Dr. Merith Streicher aus ihren Büchern “Grundrechte von A-Z” sowie “Und die Menschenwürde bleibt”\, die in neuer Auflage erschienen sind. Die Bücher können vor Ort auch erworben werden. Der Gründer der Initiative Mahnwache wird zugegen sein und von seinen Erfahrungen berichten. Ein Adventnachmittag der etwas anderen Art\, der uns zu Besinnung und Wachsamkeit aufruft. \nAnmeldung erbeten: post@ggi-initiative.at \nEintritt: freie Spende! \nOrt: GGI/LMP-Lokal in Wien 9\, Wilhelm-Exner-Gasse 15 \nVeranstalter: GGI-Initiative
URL:https://ggi-initiative.at/wp/veranstaltung/ein-adventnachmittag-fuer-die-grundrechte/
ATTACH;FMTTYPE=image/jpeg:https://ggi-initiative.at/wp/wp-content/uploads/2024/11/8.12.jpg
END:VEVENT
BEGIN:VEVENT
DTSTART;TZID=Europe/Vienna:20241211T190000
DTEND;TZID=Europe/Vienna:20241211T210000
DTSTAMP:20260419T233613
CREATED:20241202T221825Z
LAST-MODIFIED:20241203T104240Z
UID:38020-1733943600-1733950800@ggi-initiative.at
SUMMARY:Weihnachtsfeier
DESCRIPTION:Mittwoch 11.12. ab 19h \ngemeinsam Weihnachtsfeier der GGI und der Liste Madeleine Petrovic \n  \n 
URL:https://ggi-initiative.at/wp/veranstaltung/weihnachtsfeier/
LOCATION:Galerie/Werkstatt Nuu\, Wilhelm Exner Gasse 15\, Wien\, 1090
ATTACH;FMTTYPE=image/jpeg:https://ggi-initiative.at/wp/wp-content/uploads/2024/12/Weihnachtsfeier-11.12.-NEU.jpg
END:VEVENT
END:VCALENDAR